BEGIN:VCALENDAR
VERSION:2.0
PRODID:-//IDEA - ECPv6.15.20//NONSGML v1.0//EN
CALSCALE:GREGORIAN
METHOD:PUBLISH
X-WR-CALNAME:IDEA
X-ORIGINAL-URL:https://ideaontheweb.org
X-WR-CALDESC:Events for IDEA
REFRESH-INTERVAL;VALUE=DURATION:PT1H
X-Robots-Tag:noindex
X-PUBLISHED-TTL:PT1H
BEGIN:VTIMEZONE
TZID:America/Denver
BEGIN:DAYLIGHT
TZOFFSETFROM:-0700
TZOFFSETTO:-0600
TZNAME:MDT
DTSTART:20240310T090000
END:DAYLIGHT
BEGIN:STANDARD
TZOFFSETFROM:-0600
TZOFFSETTO:-0700
TZNAME:MST
DTSTART:20241103T080000
END:STANDARD
BEGIN:DAYLIGHT
TZOFFSETFROM:-0700
TZOFFSETTO:-0600
TZNAME:MDT
DTSTART:20250309T090000
END:DAYLIGHT
BEGIN:STANDARD
TZOFFSETFROM:-0600
TZOFFSETTO:-0700
TZNAME:MST
DTSTART:20251102T080000
END:STANDARD
BEGIN:DAYLIGHT
TZOFFSETFROM:-0700
TZOFFSETTO:-0600
TZNAME:MDT
DTSTART:20260308T090000
END:DAYLIGHT
BEGIN:STANDARD
TZOFFSETFROM:-0600
TZOFFSETTO:-0700
TZNAME:MST
DTSTART:20261101T080000
END:STANDARD
END:VTIMEZONE
BEGIN:VEVENT
DTSTART;TZID=America/Denver:20250925T110000
DTEND;TZID=America/Denver:20250925T120000
DTSTAMP:20260422T223353
CREATED:20251001T215528Z
LAST-MODIFIED:20251002T092318Z
UID:10379-1758798000-1758801600@ideaontheweb.org
SUMMARY:Advisory Committee Initial Meeting
DESCRIPTION:The Advisory Committee represents each of IDEA’s eight Active member breakouts (Alternative Productions\, Baseball\, Basketball\, Football\, Hockey\, Minor League\, Soccer\, Universities). Advisory Rep is an elected position.\nTo get involved in YOUR breakout\, contact your Advisory Rep: \n\nAlternative Productions: Tommy Bean\, Dickies Arena;\nBaseball: Arianna Krizek\, Philadelphia Phillies;\nBasketball: James Dawkins\, Miami Heat;\nFootball: Julia Chongarlides\, Atlanta Falcons;\nHockey: Ryan Bushey\, New Jersey Devils;\nMinor League: Nick Wojciechowski\, Milwaukee Admirals;\nSoccer: Tom Davis\, FC Cincinnati;\nUniversity: Les Eller\, Purdue University;
URL:https://ideaontheweb.org/event/advisory-committee-jami-patton/
LOCATION:Virtual
CATEGORIES:Advisory Committee
ORGANIZER;CN="Jami Patton":MAILTO:jami.patton@brewers.com
END:VEVENT
END:VCALENDAR