BEGIN:VCALENDAR
VERSION:2.0
PRODID:-//IDEA - ECPv6.15.20//NONSGML v1.0//EN
CALSCALE:GREGORIAN
METHOD:PUBLISH
X-ORIGINAL-URL:https://ideaontheweb.org
X-WR-CALDESC:Events for IDEA
REFRESH-INTERVAL;VALUE=DURATION:PT1H
X-Robots-Tag:noindex
X-PUBLISHED-TTL:PT1H
BEGIN:VTIMEZONE
TZID:America/Denver
BEGIN:DAYLIGHT
TZOFFSETFROM:-0700
TZOFFSETTO:-0600
TZNAME:MDT
DTSTART:20240310T090000
END:DAYLIGHT
BEGIN:STANDARD
TZOFFSETFROM:-0600
TZOFFSETTO:-0700
TZNAME:MST
DTSTART:20241103T080000
END:STANDARD
BEGIN:DAYLIGHT
TZOFFSETFROM:-0700
TZOFFSETTO:-0600
TZNAME:MDT
DTSTART:20250309T090000
END:DAYLIGHT
BEGIN:STANDARD
TZOFFSETFROM:-0600
TZOFFSETTO:-0700
TZNAME:MST
DTSTART:20251102T080000
END:STANDARD
BEGIN:DAYLIGHT
TZOFFSETFROM:-0700
TZOFFSETTO:-0600
TZNAME:MDT
DTSTART:20260308T090000
END:DAYLIGHT
BEGIN:STANDARD
TZOFFSETFROM:-0600
TZOFFSETTO:-0700
TZNAME:MST
DTSTART:20261101T080000
END:STANDARD
END:VTIMEZONE
BEGIN:VEVENT
DTSTART;VALUE=DATE:20251020
DTEND;VALUE=DATE:20251021
DTSTAMP:20260423T060815
CREATED:20251002T095443Z
LAST-MODIFIED:20251002T095816Z
UID:10418-1760918400-1761004799@ideaontheweb.org
SUMMARY:Host City Committee Meets
DESCRIPTION:The Host City Committee comprises IDEA members in the IDEA Conference Host City. They assist with planning and facilitating the annual conference. \nFor more information\, contact IDEA World Headquarters.
URL:https://ideaontheweb.org/event/host-city-committee-meets/
CATEGORIES:HC Committee
ORGANIZER;CN="Liz Burke Brown":MAILTO:liz@ideaontheweb.org
END:VEVENT
END:VCALENDAR