BEGIN:VCALENDAR
VERSION:2.0
PRODID:-//IDEA - ECPv6.15.20//NONSGML v1.0//EN
CALSCALE:GREGORIAN
METHOD:PUBLISH
X-WR-CALNAME:IDEA
X-ORIGINAL-URL:https://ideaontheweb.org
X-WR-CALDESC:Events for IDEA
REFRESH-INTERVAL;VALUE=DURATION:PT1H
X-Robots-Tag:noindex
X-PUBLISHED-TTL:PT1H
BEGIN:VTIMEZONE
TZID:America/Chicago
BEGIN:DAYLIGHT
TZOFFSETFROM:-0600
TZOFFSETTO:-0500
TZNAME:CDT
DTSTART:20240310T080000
END:DAYLIGHT
BEGIN:STANDARD
TZOFFSETFROM:-0500
TZOFFSETTO:-0600
TZNAME:CST
DTSTART:20241103T070000
END:STANDARD
BEGIN:DAYLIGHT
TZOFFSETFROM:-0600
TZOFFSETTO:-0500
TZNAME:CDT
DTSTART:20250309T080000
END:DAYLIGHT
BEGIN:STANDARD
TZOFFSETFROM:-0500
TZOFFSETTO:-0600
TZNAME:CST
DTSTART:20251102T070000
END:STANDARD
BEGIN:DAYLIGHT
TZOFFSETFROM:-0600
TZOFFSETTO:-0500
TZNAME:CDT
DTSTART:20260308T080000
END:DAYLIGHT
BEGIN:STANDARD
TZOFFSETFROM:-0500
TZOFFSETTO:-0600
TZNAME:CST
DTSTART:20261101T070000
END:STANDARD
BEGIN:DAYLIGHT
TZOFFSETFROM:-0600
TZOFFSETTO:-0500
TZNAME:CDT
DTSTART:20270314T080000
END:DAYLIGHT
BEGIN:STANDARD
TZOFFSETFROM:-0500
TZOFFSETTO:-0600
TZNAME:CST
DTSTART:20271107T070000
END:STANDARD
END:VTIMEZONE
BEGIN:VEVENT
DTSTART;TZID=America/Chicago:20260301T000000
DTEND;TZID=America/Chicago:20260415T233000
DTSTAMP:20260422T134529
CREATED:20251031T220229Z
LAST-MODIFIED:20251031T220404Z
UID:10541-1772323200-1776295800@ideaontheweb.org
SUMMARY:Inspire the Passion Applications Reviewed
DESCRIPTION:
URL:https://ideaontheweb.org/event/inspire-the-passion-applications-reviewed/
CATEGORIES:Internal Deadlines
ORGANIZER;CN="Jacob Potter":MAILTO:jacobpotter@ou.edu
END:VEVENT
BEGIN:VEVENT
DTSTART;VALUE=DATE:20251231
DTEND;VALUE=DATE:20260101
DTSTAMP:20260422T134529
CREATED:20251031T210902Z
LAST-MODIFIED:20251031T210902Z
UID:10537-1767139200-1767225599@ideaontheweb.org
SUMMARY:ITP Nominations Due
DESCRIPTION:
URL:https://ideaontheweb.org/event/itp-nominations-due/
CATEGORIES:Internal Deadlines
ORGANIZER;CN="Jacob Potter":MAILTO:jacobpotter@ou.edu
END:VEVENT
BEGIN:VEVENT
DTSTART;VALUE=DATE:20251210
DTEND;VALUE=DATE:20251211
DTSTAMP:20260422T134529
CREATED:20251031T203553Z
LAST-MODIFIED:20251031T203553Z
UID:10530-1765324800-1765411199@ideaontheweb.org
SUMMARY:ITP Nomination Reminder #2
DESCRIPTION:
URL:https://ideaontheweb.org/event/itp-nomination-reminder-2/
CATEGORIES:Internal Deadlines
ORGANIZER;CN="Jacob Potter":MAILTO:jacobpotter@ou.edu
END:VEVENT
BEGIN:VEVENT
DTSTART;VALUE=DATE:20251112
DTEND;VALUE=DATE:20251113
DTSTAMP:20260422T134529
CREATED:20251031T203351Z
LAST-MODIFIED:20251031T203433Z
UID:10528-1762905600-1762991999@ideaontheweb.org
SUMMARY:ITP Nomination Reminder #1
DESCRIPTION:
URL:https://ideaontheweb.org/event/itp-nomination-reminder-1/
CATEGORIES:Internal Deadlines
ORGANIZER;CN="Jacob Potter":MAILTO:jacobpotter@ou.edu
END:VEVENT
BEGIN:VEVENT
DTSTART;VALUE=DATE:20251030
DTEND;VALUE=DATE:20260101
DTSTAMP:20260422T134529
CREATED:20251110T222319Z
LAST-MODIFIED:20251110T230013Z
UID:10578-1761782400-1767225599@ideaontheweb.org
SUMMARY:Inspire the Passion Nominations Accepted
DESCRIPTION:
URL:https://ideaontheweb.org/event/inspire-the-passion-nominations-accepted/
CATEGORIES:Internal Deadlines
ORGANIZER;CN="Jacob Potter":MAILTO:jacobpotter@ou.edu
END:VEVENT
BEGIN:VEVENT
DTSTART;VALUE=DATE:20251020
DTEND;VALUE=DATE:20251021
DTSTAMP:20260422T134529
CREATED:20251103T210527Z
LAST-MODIFIED:20251103T211147Z
UID:10545-1760918400-1761004799@ideaontheweb.org
SUMMARY:Conference Excursion Information Collected
DESCRIPTION:
URL:https://ideaontheweb.org/event/conference-excursion-information-collected/
CATEGORIES:Internal Deadlines
END:VEVENT
END:VCALENDAR