BEGIN:VCALENDAR
VERSION:2.0
PRODID:-//IDEA - ECPv6.15.20//NONSGML v1.0//EN
CALSCALE:GREGORIAN
METHOD:PUBLISH
X-ORIGINAL-URL:https://ideaontheweb.org
X-WR-CALDESC:Events for IDEA
REFRESH-INTERVAL;VALUE=DURATION:PT1H
X-Robots-Tag:noindex
X-PUBLISHED-TTL:PT1H
BEGIN:VTIMEZONE
TZID:America/Chicago
BEGIN:DAYLIGHT
TZOFFSETFROM:-0600
TZOFFSETTO:-0500
TZNAME:CDT
DTSTART:20250309T080000
END:DAYLIGHT
BEGIN:STANDARD
TZOFFSETFROM:-0500
TZOFFSETTO:-0600
TZNAME:CST
DTSTART:20251102T070000
END:STANDARD
BEGIN:DAYLIGHT
TZOFFSETFROM:-0600
TZOFFSETTO:-0500
TZNAME:CDT
DTSTART:20260308T080000
END:DAYLIGHT
BEGIN:STANDARD
TZOFFSETFROM:-0500
TZOFFSETTO:-0600
TZNAME:CST
DTSTART:20261101T070000
END:STANDARD
BEGIN:DAYLIGHT
TZOFFSETFROM:-0600
TZOFFSETTO:-0500
TZNAME:CDT
DTSTART:20270314T080000
END:DAYLIGHT
BEGIN:STANDARD
TZOFFSETFROM:-0500
TZOFFSETTO:-0600
TZNAME:CST
DTSTART:20271107T070000
END:STANDARD
END:VTIMEZONE
BEGIN:VEVENT
DTSTART;TZID=America/Chicago:20260416T080000
DTEND;TZID=America/Chicago:20260430T170000
DTSTAMP:20260422T121423
CREATED:20251031T220521Z
LAST-MODIFIED:20251103T210009Z
UID:10543-1776326400-1777568400@ideaontheweb.org
SUMMARY:ITP applicants interviewed (if needed)
DESCRIPTION:
URL:https://ideaontheweb.org/event/itp-applicants-interviewed-if-needed/
CATEGORIES:Internal Deadlines
ORGANIZER;CN="Jacob Potter":MAILTO:jacobpotter@ou.edu
END:VEVENT
BEGIN:VEVENT
DTSTART;VALUE=DATE:20260501
DTEND;VALUE=DATE:20260502
DTSTAMP:20260422T121423
CREATED:20251103T211330Z
LAST-MODIFIED:20251103T211640Z
UID:10548-1777593600-1777679999@ideaontheweb.org
SUMMARY:Host City Welcome Packets Requested
DESCRIPTION:If appropriate\, goodie bag items requested from HCC.
URL:https://ideaontheweb.org/event/idea-leadership-travel-plans-to-hq/
CATEGORIES:Internal Deadlines
END:VEVENT
BEGIN:VEVENT
DTSTART;VALUE=DATE:20260605
DTEND;VALUE=DATE:20260606
DTSTAMP:20260422T121423
CREATED:20251105T171755Z
LAST-MODIFIED:20251105T212003Z
UID:10557-1780617600-1780703999@ideaontheweb.org
SUMMARY:Final Menu Choices Due
DESCRIPTION:
URL:https://ideaontheweb.org/event/final-menu-choices-due/
CATEGORIES:Internal Deadlines
END:VEVENT
BEGIN:VEVENT
DTSTART;VALUE=DATE:20260615
DTEND;VALUE=DATE:20260616
DTSTAMP:20260422T121423
CREATED:20251105T213109Z
LAST-MODIFIED:20251105T213109Z
UID:10565-1781481600-1781567999@ideaontheweb.org
SUMMARY:Mentorship Applications Due
DESCRIPTION:
URL:https://ideaontheweb.org/event/mentorship-applications-due/
CATEGORIES:Internal Deadlines
END:VEVENT
BEGIN:VEVENT
DTSTART;VALUE=DATE:20260625
DTEND;VALUE=DATE:20260701
DTSTAMP:20260422T121423
CREATED:20251105T213414Z
LAST-MODIFIED:20251105T213414Z
UID:10568-1782345600-1782863999@ideaontheweb.org
SUMMARY:President's Time Out Created
DESCRIPTION:President’s Time Out with final conference reminders created & edited.
URL:https://ideaontheweb.org/event/presidents-time-out-created/
CATEGORIES:Internal Deadlines
END:VEVENT
BEGIN:VEVENT
DTSTART;VALUE=DATE:20260701
DTEND;VALUE=DATE:20260702
DTSTAMP:20260422T121423
CREATED:20251105T213712Z
LAST-MODIFIED:20251105T214838Z
UID:10570-1782864000-1782950399@ideaontheweb.org
SUMMARY:President's Time Out Sent
DESCRIPTION:Final conference reminders
URL:https://ideaontheweb.org/event/presidents-time-out-sent/
CATEGORIES:Internal Deadlines
END:VEVENT
BEGIN:VEVENT
DTSTART;VALUE=DATE:20260710
DTEND;VALUE=DATE:20260711
DTSTAMP:20260422T121423
CREATED:20251105T215048Z
LAST-MODIFIED:20251105T215048Z
UID:10572-1783641600-1783727999@ideaontheweb.org
SUMMARY:Meet with Excursion Venues
DESCRIPTION:Final Walkthroughs
URL:https://ideaontheweb.org/event/meet-with-excursion-venues/
CATEGORIES:Internal Deadlines
END:VEVENT
BEGIN:VEVENT
DTSTART;VALUE=DATE:20260710
DTEND;VALUE=DATE:20260711
DTSTAMP:20260422T121423
CREATED:20251105T215231Z
LAST-MODIFIED:20251105T215231Z
UID:10574-1783641600-1783727999@ideaontheweb.org
SUMMARY:Meet with Transportation Provider
DESCRIPTION:
URL:https://ideaontheweb.org/event/meet-with-transportation-provider/
CATEGORIES:Internal Deadlines
END:VEVENT
BEGIN:VEVENT
DTSTART;VALUE=DATE:20260713
DTEND;VALUE=DATE:20260714
DTSTAMP:20260422T121423
CREATED:20251105T215647Z
LAST-MODIFIED:20251105T215647Z
UID:10576-1783900800-1783987199@ideaontheweb.org
SUMMARY:Meet with Decorator
DESCRIPTION:
URL:https://ideaontheweb.org/event/meet-with-decorator/
CATEGORIES:Internal Deadlines
ORGANIZER;CN="John Adams":MAILTO:john.adams@thescore.us
END:VEVENT
END:VCALENDAR