BEGIN:VCALENDAR
VERSION:2.0
PRODID:-//IDEA - ECPv6.15.20//NONSGML v1.0//EN
CALSCALE:GREGORIAN
METHOD:PUBLISH
X-WR-CALNAME:IDEA
X-ORIGINAL-URL:https://ideaontheweb.org
X-WR-CALDESC:Events for IDEA
REFRESH-INTERVAL;VALUE=DURATION:PT1H
X-Robots-Tag:noindex
X-PUBLISHED-TTL:PT1H
BEGIN:VTIMEZONE
TZID:America/Denver
BEGIN:DAYLIGHT
TZOFFSETFROM:-0700
TZOFFSETTO:-0600
TZNAME:MDT
DTSTART:20240310T090000
END:DAYLIGHT
BEGIN:STANDARD
TZOFFSETFROM:-0600
TZOFFSETTO:-0700
TZNAME:MST
DTSTART:20241103T080000
END:STANDARD
BEGIN:DAYLIGHT
TZOFFSETFROM:-0700
TZOFFSETTO:-0600
TZNAME:MDT
DTSTART:20250309T090000
END:DAYLIGHT
BEGIN:STANDARD
TZOFFSETFROM:-0600
TZOFFSETTO:-0700
TZNAME:MST
DTSTART:20251102T080000
END:STANDARD
BEGIN:DAYLIGHT
TZOFFSETFROM:-0700
TZOFFSETTO:-0600
TZNAME:MDT
DTSTART:20260308T090000
END:DAYLIGHT
BEGIN:STANDARD
TZOFFSETFROM:-0600
TZOFFSETTO:-0700
TZNAME:MST
DTSTART:20261101T080000
END:STANDARD
END:VTIMEZONE
BEGIN:VEVENT
DTSTART;TZID=America/Denver:20251120T140000
DTEND;TZID=America/Denver:20251120T150000
DTSTAMP:20260423T060817
CREATED:20251002T210042Z
LAST-MODIFIED:20251002T210042Z
UID:10448-1763647200-1763650800@ideaontheweb.org
SUMMARY:I & O Committee Monthly Meeting
DESCRIPTION:The Inclusion & Outreach Committee conducts management sessions at the annual conference\, offers an outreach program for students to introduce them to the industry\, and oversees the IDEA mentorship program. It is divided into three pillars (Education\, Outreach\, Mentoring). \nFor more information\, contact Committee Chair Derryl Myles.
URL:https://ideaontheweb.org/event/i-o-committee-monthly-meeting-2/
LOCATION:Virtual
CATEGORIES:I&O Committee
ORGANIZER;CN="Derryl Myles":MAILTO:dmyles1@illinois.edu
END:VEVENT
END:VCALENDAR