BEGIN:VCALENDAR
VERSION:2.0
PRODID:-//IDEA - ECPv6.15.20//NONSGML v1.0//EN
CALSCALE:GREGORIAN
METHOD:PUBLISH
X-WR-CALNAME:IDEA
X-ORIGINAL-URL:https://ideaontheweb.org
X-WR-CALDESC:Events for IDEA
REFRESH-INTERVAL;VALUE=DURATION:PT1H
X-Robots-Tag:noindex
X-PUBLISHED-TTL:PT1H
BEGIN:VTIMEZONE
TZID:America/Denver
BEGIN:DAYLIGHT
TZOFFSETFROM:-0700
TZOFFSETTO:-0600
TZNAME:MDT
DTSTART:20240310T090000
END:DAYLIGHT
BEGIN:STANDARD
TZOFFSETFROM:-0600
TZOFFSETTO:-0700
TZNAME:MST
DTSTART:20241103T080000
END:STANDARD
BEGIN:DAYLIGHT
TZOFFSETFROM:-0700
TZOFFSETTO:-0600
TZNAME:MDT
DTSTART:20250309T090000
END:DAYLIGHT
BEGIN:STANDARD
TZOFFSETFROM:-0600
TZOFFSETTO:-0700
TZNAME:MST
DTSTART:20251102T080000
END:STANDARD
BEGIN:DAYLIGHT
TZOFFSETFROM:-0700
TZOFFSETTO:-0600
TZNAME:MDT
DTSTART:20260308T090000
END:DAYLIGHT
BEGIN:STANDARD
TZOFFSETFROM:-0600
TZOFFSETTO:-0700
TZNAME:MST
DTSTART:20261101T080000
END:STANDARD
END:VTIMEZONE
BEGIN:VTIMEZONE
TZID:America/Chicago
BEGIN:DAYLIGHT
TZOFFSETFROM:-0600
TZOFFSETTO:-0500
TZNAME:CDT
DTSTART:20240310T080000
END:DAYLIGHT
BEGIN:STANDARD
TZOFFSETFROM:-0500
TZOFFSETTO:-0600
TZNAME:CST
DTSTART:20241103T070000
END:STANDARD
BEGIN:DAYLIGHT
TZOFFSETFROM:-0600
TZOFFSETTO:-0500
TZNAME:CDT
DTSTART:20250309T080000
END:DAYLIGHT
BEGIN:STANDARD
TZOFFSETFROM:-0500
TZOFFSETTO:-0600
TZNAME:CST
DTSTART:20251102T070000
END:STANDARD
BEGIN:DAYLIGHT
TZOFFSETFROM:-0600
TZOFFSETTO:-0500
TZNAME:CDT
DTSTART:20260308T080000
END:DAYLIGHT
BEGIN:STANDARD
TZOFFSETFROM:-0500
TZOFFSETTO:-0600
TZNAME:CST
DTSTART:20261101T070000
END:STANDARD
END:VTIMEZONE
BEGIN:VEVENT
DTSTART;TZID=America/Denver:20251103T120000
DTEND;TZID=America/Denver:20251103T130000
DTSTAMP:20260422T151247
CREATED:20251002T101246Z
LAST-MODIFIED:20251002T101246Z
UID:10426-1762171200-1762174800@ideaontheweb.org
SUMMARY:ITP Committee Initial Meeting
DESCRIPTION:The Inspire the Passion Committee administers the Inspire the Passion Award competition\, which recognizes outstanding interns in the industry. \nFor information\, contact Committee Chair Jacob Potter.
URL:https://ideaontheweb.org/event/itp-committee-initial-meeting/
LOCATION:Virtual
CATEGORIES:ITP Committee
ORGANIZER;CN="Jacob Potter":MAILTO:jacobpotter@ou.edu
END:VEVENT
BEGIN:VEVENT
DTSTART;VALUE=DATE:20251030
DTEND;VALUE=DATE:20251031
DTSTAMP:20260422T151247
CREATED:20251031T214450Z
LAST-MODIFIED:20251031T214450Z
UID:10539-1761782400-1761868799@ideaontheweb.org
SUMMARY:Inspire the Passion Nominations Open
DESCRIPTION:
URL:https://ideaontheweb.org/event/inspire-the-passion-nominations-open/
CATEGORIES:ITP Committee
ORGANIZER;CN="Jacob Potter":MAILTO:jacobpotter@ou.edu
END:VEVENT
END:VCALENDAR