BEGIN:VCALENDAR
VERSION:2.0
PRODID:-//IDEA - ECPv6.15.20//NONSGML v1.0//EN
CALSCALE:GREGORIAN
METHOD:PUBLISH
X-WR-CALNAME:IDEA
X-ORIGINAL-URL:https://ideaontheweb.org
X-WR-CALDESC:Events for IDEA
REFRESH-INTERVAL;VALUE=DURATION:PT1H
X-Robots-Tag:noindex
X-PUBLISHED-TTL:PT1H
BEGIN:VTIMEZONE
TZID:America/Denver
BEGIN:DAYLIGHT
TZOFFSETFROM:-0700
TZOFFSETTO:-0600
TZNAME:MDT
DTSTART:20240310T090000
END:DAYLIGHT
BEGIN:STANDARD
TZOFFSETFROM:-0600
TZOFFSETTO:-0700
TZNAME:MST
DTSTART:20241103T080000
END:STANDARD
BEGIN:DAYLIGHT
TZOFFSETFROM:-0700
TZOFFSETTO:-0600
TZNAME:MDT
DTSTART:20250309T090000
END:DAYLIGHT
BEGIN:STANDARD
TZOFFSETFROM:-0600
TZOFFSETTO:-0700
TZNAME:MST
DTSTART:20251102T080000
END:STANDARD
BEGIN:DAYLIGHT
TZOFFSETFROM:-0700
TZOFFSETTO:-0600
TZNAME:MDT
DTSTART:20260308T090000
END:DAYLIGHT
BEGIN:STANDARD
TZOFFSETFROM:-0600
TZOFFSETTO:-0700
TZNAME:MST
DTSTART:20261101T080000
END:STANDARD
BEGIN:DAYLIGHT
TZOFFSETFROM:-0700
TZOFFSETTO:-0600
TZNAME:MDT
DTSTART:20270314T090000
END:DAYLIGHT
BEGIN:STANDARD
TZOFFSETFROM:-0600
TZOFFSETTO:-0700
TZNAME:MST
DTSTART:20271107T080000
END:STANDARD
END:VTIMEZONE
BEGIN:VTIMEZONE
TZID:America/Chicago
BEGIN:DAYLIGHT
TZOFFSETFROM:-0600
TZOFFSETTO:-0500
TZNAME:CDT
DTSTART:20240310T080000
END:DAYLIGHT
BEGIN:STANDARD
TZOFFSETFROM:-0500
TZOFFSETTO:-0600
TZNAME:CST
DTSTART:20241103T070000
END:STANDARD
BEGIN:DAYLIGHT
TZOFFSETFROM:-0600
TZOFFSETTO:-0500
TZNAME:CDT
DTSTART:20250309T080000
END:DAYLIGHT
BEGIN:STANDARD
TZOFFSETFROM:-0500
TZOFFSETTO:-0600
TZNAME:CST
DTSTART:20251102T070000
END:STANDARD
BEGIN:DAYLIGHT
TZOFFSETFROM:-0600
TZOFFSETTO:-0500
TZNAME:CDT
DTSTART:20260308T080000
END:DAYLIGHT
BEGIN:STANDARD
TZOFFSETFROM:-0500
TZOFFSETTO:-0600
TZNAME:CST
DTSTART:20261101T070000
END:STANDARD
BEGIN:DAYLIGHT
TZOFFSETFROM:-0600
TZOFFSETTO:-0500
TZNAME:CDT
DTSTART:20270314T080000
END:DAYLIGHT
BEGIN:STANDARD
TZOFFSETFROM:-0500
TZOFFSETTO:-0600
TZNAME:CST
DTSTART:20271107T070000
END:STANDARD
END:VTIMEZONE
BEGIN:VEVENT
DTSTART;TZID=America/Denver:20260115T140000
DTEND;TZID=America/Denver:20260115T150000
DTSTAMP:20260425T053243
CREATED:20260107T163214Z
LAST-MODIFIED:20260107T163214Z
UID:10607-1768485600-1768489200@ideaontheweb.org
SUMMARY:I & O Committee Monthly Meeting
DESCRIPTION:The Inclusion & Outreach Committee conducts management sessions at the annual conference\, offers an outreach program for students to introduce them to the industry\, and oversees the IDEA mentorship program. It is divided into three pillars (Education\, Outreach\, Mentoring). \nFor more information\, contact Committee Chair Derryl Myles.
URL:https://ideaontheweb.org/event/i-o-committee-monthly-meeting-3/
LOCATION:Virtual
CATEGORIES:I&O Committee
ORGANIZER;CN="Derryl Myles":MAILTO:dmyles1@illinois.edu
END:VEVENT
BEGIN:VEVENT
DTSTART;TZID=America/Denver:20260115T130000
DTEND;TZID=America/Denver:20260115T140000
DTSTAMP:20260425T053243
CREATED:20260107T163441Z
LAST-MODIFIED:20260107T163441Z
UID:10609-1768482000-1768485600@ideaontheweb.org
SUMMARY:EAS-E Committee Monthly Meeting
DESCRIPTION:The Emerging and Social Engagement Committee plans and oversees the organization’s social marketing and social media presence. It is divided into two sections (Design\, Project Management). \nFor further information\, contact Committee Chair Emma Kazian.
URL:https://ideaontheweb.org/event/eas-e-committee-monthly-meeting-3/
LOCATION:Virtual
CATEGORIES:EAS-E Committee
ORGANIZER;CN="Emma Kazian":MAILTO:ekazian@vegasgoldenknights.com
END:VEVENT
BEGIN:VEVENT
DTSTART;TZID=America/Chicago:20260108T123000
DTEND;TZID=America/Chicago:20260108T133000
DTSTAMP:20260425T053243
CREATED:20260107T163753Z
LAST-MODIFIED:20260107T163753Z
UID:10613-1767875400-1767879000@ideaontheweb.org
SUMMARY:CC Committee Monthly Meeting
DESCRIPTION:The Conference Content Committee plans and executes the programming at the annual conference. It has five tracks (Creative\, Daily Grind\, Game Ops\, Management\, Technology). \nFor further information\, contact Committee Chair Matt Jaques.
URL:https://ideaontheweb.org/event/cc-committee-monthly-meeting/
LOCATION:Virtual
CATEGORIES:CC Committee
ORGANIZER;CN="Matt Jacques":MAILTO:matt.jaques@houstontexans.com
END:VEVENT
BEGIN:VEVENT
DTSTART;TZID=America/Denver:20260107T120000
DTEND;TZID=America/Denver:20260107T130000
DTSTAMP:20260425T053243
CREATED:20260107T163624Z
LAST-MODIFIED:20260107T163624Z
UID:10611-1767787200-1767790800@ideaontheweb.org
SUMMARY:IDEA Executive Board meets
DESCRIPTION:The Executive Board is elected by the membership in even-numbered years and serves a two-year term. The positions of President\, 1st Vice President\, 2nd Vice President\, and Secretary will be chosen in 2026. \nFor further information\, contact IDEA World Headquarters.
URL:https://ideaontheweb.org/event/idea-executive-board-meets-7/
LOCATION:Virtual
CATEGORIES:Executive Board
ORGANIZER;CN="Liz Burke Brown":MAILTO:liz@ideaontheweb.org
END:VEVENT
BEGIN:VEVENT
DTSTART;TZID=America/Denver:20260107T110000
DTEND;TZID=America/Denver:20260107T120000
DTSTAMP:20260425T053243
CREATED:20260107T163958Z
LAST-MODIFIED:20260107T163958Z
UID:10616-1767783600-1767787200@ideaontheweb.org
SUMMARY:Corporate Partner Monthly Meeting
DESCRIPTION:Corporate Partner Rep is an elected position. If you are a Corporate Partner member\, please contact your rep\, John Adams\, for more information about your breakout.
URL:https://ideaontheweb.org/event/corporate-partner-monthly-meeting-2/
LOCATION:Virtual
CATEGORIES:Corporate Partners
ORGANIZER;CN="John Adams":MAILTO:john.adams@thescore.us
END:VEVENT
BEGIN:VEVENT
DTSTART;VALUE=DATE:20251231
DTEND;VALUE=DATE:20260101
DTSTAMP:20260425T053243
CREATED:20251031T210902Z
LAST-MODIFIED:20251031T210902Z
UID:10537-1767139200-1767225599@ideaontheweb.org
SUMMARY:ITP Nominations Due
DESCRIPTION:
URL:https://ideaontheweb.org/event/itp-nominations-due/
CATEGORIES:Internal Deadlines
ORGANIZER;CN="Jacob Potter":MAILTO:jacobpotter@ou.edu
END:VEVENT
BEGIN:VEVENT
DTSTART;VALUE=DATE:20251210
DTEND;VALUE=DATE:20251211
DTSTAMP:20260425T053243
CREATED:20251031T203553Z
LAST-MODIFIED:20251031T203553Z
UID:10530-1765324800-1765411199@ideaontheweb.org
SUMMARY:ITP Nomination Reminder #2
DESCRIPTION:
URL:https://ideaontheweb.org/event/itp-nomination-reminder-2/
CATEGORIES:Internal Deadlines
ORGANIZER;CN="Jacob Potter":MAILTO:jacobpotter@ou.edu
END:VEVENT
BEGIN:VEVENT
DTSTART;TZID=America/Denver:20251120T140000
DTEND;TZID=America/Denver:20251120T150000
DTSTAMP:20260425T053243
CREATED:20251002T210042Z
LAST-MODIFIED:20251002T210042Z
UID:10448-1763647200-1763650800@ideaontheweb.org
SUMMARY:I & O Committee Monthly Meeting
DESCRIPTION:The Inclusion & Outreach Committee conducts management sessions at the annual conference\, offers an outreach program for students to introduce them to the industry\, and oversees the IDEA mentorship program. It is divided into three pillars (Education\, Outreach\, Mentoring). \nFor more information\, contact Committee Chair Derryl Myles.
URL:https://ideaontheweb.org/event/i-o-committee-monthly-meeting-2/
LOCATION:Virtual
CATEGORIES:I&O Committee
ORGANIZER;CN="Derryl Myles":MAILTO:dmyles1@illinois.edu
END:VEVENT
BEGIN:VEVENT
DTSTART;TZID=America/Denver:20251120T130000
DTEND;TZID=America/Denver:20251120T140000
DTSTAMP:20260425T053243
CREATED:20251002T210119Z
LAST-MODIFIED:20251002T210119Z
UID:10449-1763643600-1763647200@ideaontheweb.org
SUMMARY:EAS-E Committee Monthly Meeting
DESCRIPTION:The Emerging and Social Engagement Committee plans and oversees the organization’s social marketing and social media presence. It is divided into two sections (Design\, Project Management). \nFor further information\, contact Committee Chair Emma Kazian.
URL:https://ideaontheweb.org/event/eas-e-committee-monthly-meeting-2/
LOCATION:Virtual
CATEGORIES:EAS-E Committee
ORGANIZER;CN="Emma Kazian":MAILTO:ekazian@vegasgoldenknights.com
END:VEVENT
BEGIN:VEVENT
DTSTART;VALUE=DATE:20251117
DTEND;VALUE=DATE:20251118
DTSTAMP:20260425T053243
CREATED:20251031T204005Z
LAST-MODIFIED:20251031T204303Z
UID:10532-1763337600-1763423999@ideaontheweb.org
SUMMARY:IDEA Executive Board meets
DESCRIPTION:The Executive Board is elected by the membership in even-numbered years and serves a two-year term. The positions of President\, 1st Vice President\, 2nd Vice President\, and Secretary will be chosen in 2026. \nFor further information\, contact IDEA World Headquarters.
URL:https://ideaontheweb.org/event/idea-executive-board-meets-6/
LOCATION:Northern Kentucky Convention Center\, 1 W Rivercenter Blvd\, Covington\, KY\, 41011\, United States
CATEGORIES:Executive Board
ORGANIZER;CN="Liz Burke Brown":MAILTO:liz@ideaontheweb.org
END:VEVENT
BEGIN:VEVENT
DTSTART;TZID=America/Chicago:20251113T120000
DTEND;TZID=America/Chicago:20251113T130000
DTSTAMP:20260425T053243
CREATED:20251105T212143Z
LAST-MODIFIED:20251105T212907Z
UID:10559-1763035200-1763038800@ideaontheweb.org
SUMMARY:CC Committee Monthly Meeting
DESCRIPTION:The Conference Content Committee plans and executes the programming at the annual conference. It has five tracks (Creative\, Daily Grind\, Game Ops\, Management\, Technology). \nFor further information\, contact Committee Chair Matt Jaques.
URL:https://ideaontheweb.org/event/conference-content-committee-meets/
LOCATION:Virtual
CATEGORIES:CC Committee
ORGANIZER;CN="Matt Jacques":MAILTO:matt.jaques@houstontexans.com
END:VEVENT
BEGIN:VEVENT
DTSTART;VALUE=DATE:20251112
DTEND;VALUE=DATE:20251113
DTSTAMP:20260425T053243
CREATED:20251031T203351Z
LAST-MODIFIED:20251031T203433Z
UID:10528-1762905600-1762991999@ideaontheweb.org
SUMMARY:ITP Nomination Reminder #1
DESCRIPTION:
URL:https://ideaontheweb.org/event/itp-nomination-reminder-1/
CATEGORIES:Internal Deadlines
ORGANIZER;CN="Jacob Potter":MAILTO:jacobpotter@ou.edu
END:VEVENT
BEGIN:VEVENT
DTSTART;TZID=America/Denver:20251105T110000
DTEND;TZID=America/Denver:20251105T120000
DTSTAMP:20260425T053243
CREATED:20251002T210222Z
LAST-MODIFIED:20251002T210222Z
UID:10450-1762340400-1762344000@ideaontheweb.org
SUMMARY:Corporate Partner Monthly Meeting
DESCRIPTION:Corporate Partner Rep is an elected position. If you are a Corporate Partner member\, please contact your rep\, John Adams\, for more information about your breakout.
URL:https://ideaontheweb.org/event/corporate-partner-monthly-meeting/
LOCATION:Virtual
CATEGORIES:Corporate Partners
ORGANIZER;CN="John Adams":MAILTO:john.adams@thescore.us
END:VEVENT
BEGIN:VEVENT
DTSTART;TZID=America/Denver:20251104T143000
DTEND;TZID=America/Denver:20251104T153000
DTSTAMP:20260425T053243
CREATED:20251002T205827Z
LAST-MODIFIED:20251031T203743Z
UID:10446-1762266600-1762270200@ideaontheweb.org
SUMMARY:IDEA Executive Board meets
DESCRIPTION:The Executive Board is elected by the membership in even-numbered years and serves a two-year term. The positions of President\, 1st Vice President\, 2nd Vice President\, and Secretary will be chosen in 2026. \nFor further information\, contact IDEA World Headquarters.
URL:https://ideaontheweb.org/event/idea-executive-board-meets-5/
LOCATION:Virtual
CATEGORIES:Executive Board
ORGANIZER;CN="Liz Burke Brown":MAILTO:liz@ideaontheweb.org
END:VEVENT
BEGIN:VEVENT
DTSTART;TZID=America/Denver:20251103T120000
DTEND;TZID=America/Denver:20251103T130000
DTSTAMP:20260425T053243
CREATED:20251002T101246Z
LAST-MODIFIED:20251002T101246Z
UID:10426-1762171200-1762174800@ideaontheweb.org
SUMMARY:ITP Committee Initial Meeting
DESCRIPTION:The Inspire the Passion Committee administers the Inspire the Passion Award competition\, which recognizes outstanding interns in the industry. \nFor information\, contact Committee Chair Jacob Potter.
URL:https://ideaontheweb.org/event/itp-committee-initial-meeting/
LOCATION:Virtual
CATEGORIES:ITP Committee
ORGANIZER;CN="Jacob Potter":MAILTO:jacobpotter@ou.edu
END:VEVENT
BEGIN:VEVENT
DTSTART;VALUE=DATE:20251030
DTEND;VALUE=DATE:20260101
DTSTAMP:20260425T053243
CREATED:20251110T222319Z
LAST-MODIFIED:20251110T230013Z
UID:10578-1761782400-1767225599@ideaontheweb.org
SUMMARY:Inspire the Passion Nominations Accepted
DESCRIPTION:
URL:https://ideaontheweb.org/event/inspire-the-passion-nominations-accepted/
CATEGORIES:Internal Deadlines
ORGANIZER;CN="Jacob Potter":MAILTO:jacobpotter@ou.edu
END:VEVENT
BEGIN:VEVENT
DTSTART;VALUE=DATE:20251030
DTEND;VALUE=DATE:20251031
DTSTAMP:20260425T053243
CREATED:20251031T214450Z
LAST-MODIFIED:20251031T214450Z
UID:10539-1761782400-1761868799@ideaontheweb.org
SUMMARY:Inspire the Passion Nominations Open
DESCRIPTION:
URL:https://ideaontheweb.org/event/inspire-the-passion-nominations-open/
CATEGORIES:ITP Committee
ORGANIZER;CN="Jacob Potter":MAILTO:jacobpotter@ou.edu
END:VEVENT
BEGIN:VEVENT
DTSTART;TZID=America/Denver:20251022T120000
DTEND;TZID=America/Denver:20251022T130000
DTSTAMP:20260425T053243
CREATED:20251002T195923Z
LAST-MODIFIED:20251002T203348Z
UID:10436-1761134400-1761138000@ideaontheweb.org
SUMMARY:IDEA Executive Board meets
DESCRIPTION:The Executive Board is elected by the membership in even-numbered years and serves a two-year term. The positions of President\, 1st Vice President\, 2nd Vice President\, and Secretary will be chosen in 2026. \nFor further information\, contact IDEA World Headquarters.
URL:https://ideaontheweb.org/event/idea-executive-board-meets-2/
LOCATION:Virtual
CATEGORIES:Executive Board
ORGANIZER;CN="Liz Burke Brown":MAILTO:liz@ideaontheweb.org
END:VEVENT
BEGIN:VEVENT
DTSTART;VALUE=DATE:20251020
DTEND;VALUE=DATE:20251021
DTSTAMP:20260425T053243
CREATED:20251103T210527Z
LAST-MODIFIED:20251103T211147Z
UID:10545-1760918400-1761004799@ideaontheweb.org
SUMMARY:Conference Excursion Information Collected
DESCRIPTION:
URL:https://ideaontheweb.org/event/conference-excursion-information-collected/
CATEGORIES:Internal Deadlines
END:VEVENT
BEGIN:VEVENT
DTSTART;VALUE=DATE:20251020
DTEND;VALUE=DATE:20251021
DTSTAMP:20260425T053243
CREATED:20251002T095443Z
LAST-MODIFIED:20251002T095816Z
UID:10418-1760918400-1761004799@ideaontheweb.org
SUMMARY:Host City Committee Meets
DESCRIPTION:The Host City Committee comprises IDEA members in the IDEA Conference Host City. They assist with planning and facilitating the annual conference. \nFor more information\, contact IDEA World Headquarters.
URL:https://ideaontheweb.org/event/host-city-committee-meets/
CATEGORIES:HC Committee
ORGANIZER;CN="Liz Burke Brown":MAILTO:liz@ideaontheweb.org
END:VEVENT
BEGIN:VEVENT
DTSTART;TZID=America/Denver:20251019T000000
DTEND;TZID=America/Denver:20251019T000000
DTSTAMP:20260425T053243
CREATED:20251002T095015Z
LAST-MODIFIED:20251002T095925Z
UID:10415-1760832000-1760832000@ideaontheweb.org
SUMMARY:HoF Committee Initial Meeting
DESCRIPTION:The Historical Committee\, including the Hall of Fame\, oversees the election and induction of Hall of Fame members\, preserves the organization’s history\, and assists in planning special events. It is divided into four pillars (Archives\, Hall of Fame\, Special Events\, Special Projects). \nFor more information\, contact Committee Co-Chairs John Franzone and Aaron Buckles.
URL:https://ideaontheweb.org/event/hof-committee-initial-meeting/
LOCATION:Virtual
CATEGORIES:HoF Committee
ORGANIZER;CN="John Franzone":MAILTO:JFranzone@viniksportsgroup.com
END:VEVENT
BEGIN:VEVENT
DTSTART;TZID=America/Denver:20251016T140000
DTEND;TZID=America/Denver:20251016T150000
DTSTAMP:20260425T053243
CREATED:20251002T100652Z
LAST-MODIFIED:20251002T101827Z
UID:10423-1760623200-1760626800@ideaontheweb.org
SUMMARY:I & O Committee Monthly Meeting
DESCRIPTION:The Inclusion & Outreach Committee conducts management sessions at the annual conference\, offers an outreach program for students to introduce them to the industry\, and oversees the IDEA mentorship program. It is divided into three pillars (Education\, Outreach\, Mentoring). \nFor more information\, contact Committee Chair Derryl Myles.
URL:https://ideaontheweb.org/event/i-o-committee-monthly-meeting/
LOCATION:Virtual
CATEGORIES:I&O Committee
ORGANIZER;CN="Derryl Myles":MAILTO:dmyles1@illinois.edu
END:VEVENT
BEGIN:VEVENT
DTSTART;TZID=America/Denver:20251016T130000
DTEND;TZID=America/Denver:20251016T140000
DTSTAMP:20260425T053243
CREATED:20251002T092718Z
LAST-MODIFIED:20251002T092718Z
UID:10408-1760619600-1760623200@ideaontheweb.org
SUMMARY:EAS-E Committee Monthly Meeting
DESCRIPTION:The Emerging and Social Engagement Committee plans and oversees the organization’s social marketing and social media presence. It is divided into two sections (Design\, Project Management). \nFor further information\, contact Committee Chair Emma Kazian.
URL:https://ideaontheweb.org/event/eas-e-committee-monthly-meeting/
LOCATION:Virtual
CATEGORIES:EAS-E Committee
ORGANIZER;CN="Emma Kazian":MAILTO:ekazian@vegasgoldenknights.com
END:VEVENT
BEGIN:VEVENT
DTSTART;TZID=America/Denver:20251010T100000
DTEND;TZID=America/Denver:20251010T110000
DTSTAMP:20260425T053243
CREATED:20251002T102117Z
LAST-MODIFIED:20251002T102117Z
UID:10432-1760090400-1760094000@ideaontheweb.org
SUMMARY:CCC Track Leads Meet
DESCRIPTION:The Conference Content Committee plans and executes the programming at the annual conference. It has five tracks (Creative\, Daily Grind\, Game Ops\, Management\, Technology). \nFor further information\, contact Committee Chair Matt Jaques.
URL:https://ideaontheweb.org/event/ccc-track-leads-meet/
LOCATION:Virtual
CATEGORIES:CC Committee
ORGANIZER;CN="Matt Jacques":MAILTO:matt.jaques@houstontexans.com
END:VEVENT
BEGIN:VEVENT
DTSTART;TZID=America/Denver:20251008T120000
DTEND;TZID=America/Denver:20251008T130000
DTSTAMP:20260425T053243
CREATED:20251002T195808Z
LAST-MODIFIED:20251002T195808Z
UID:10434-1759924800-1759928400@ideaontheweb.org
SUMMARY:IDEA Executive Board meets
DESCRIPTION:The Executive Board is elected by the membership in even-numbered years and serves a two-year term. The positions of President\, 1st Vice President\, 2nd Vice President\, and Secretary will be chosen in 2026. \nFor further information\, contact IDEA World Headquarters.
URL:https://ideaontheweb.org/event/idea-executive-board-meets/
LOCATION:Virtual
CATEGORIES:Executive Board
ORGANIZER;CN="Liz Burke Brown":MAILTO:liz@ideaontheweb.org
END:VEVENT
BEGIN:VEVENT
DTSTART;TZID=America/Denver:20251007T120000
DTEND;TZID=America/Denver:20251007T130000
DTSTAMP:20260425T053243
CREATED:20251001T215729Z
LAST-MODIFIED:20251006T195315Z
UID:10383-1759838400-1759842000@ideaontheweb.org
SUMMARY:GMA Comittee Initial Meeting
DESCRIPTION:The Golden Matrix Awards Committee oversees the annual GMA competition and plans the awards ceremony. It is divided into two sections (Entries\, Ceremony). \nFor further information\, contact the Committee Co-Chairs Jeff Lewis and Lina Martino.
URL:https://ideaontheweb.org/event/golden-matrix-awards/
LOCATION:Virtual
CATEGORIES:GMA Committee
ORGANIZER;CN="Lina Martino":MAILTO:lmartino@unitedcenter.com
END:VEVENT
BEGIN:VEVENT
DTSTART;TZID=America/Denver:20251001T110000
DTEND;TZID=America/Denver:20251001T120000
DTSTAMP:20260425T053243
CREATED:20251001T215646Z
LAST-MODIFIED:20251002T094215Z
UID:10381-1759316400-1759320000@ideaontheweb.org
SUMMARY:Corporate Partner Initial Meeting
DESCRIPTION:Corporate Partner Rep is an elected position. If you are a Corporate Partner member\, please contact your rep\, John Adams\, for more information about your breakout.
URL:https://ideaontheweb.org/event/corporate-partner-john-adams/
LOCATION:Virtual
CATEGORIES:Corporate Partners
ORGANIZER;CN="John Adams":MAILTO:john.adams@thescore.us
END:VEVENT
BEGIN:VEVENT
DTSTART;TZID=America/Denver:20250925T123000
DTEND;TZID=America/Denver:20250925T133000
DTSTAMP:20260425T053243
CREATED:20251002T084921Z
LAST-MODIFIED:20251002T093838Z
UID:10387-1758803400-1758807000@ideaontheweb.org
SUMMARY:CCC Initial Meeting
DESCRIPTION:The Conference Content Committee plans and executes the programming at the annual conference. It has five tracks (Creative\, Daily Grind\, Game Ops\, Management\, Technology). \nFor further information\, contact Committee Chair Matt Jaques.
URL:https://ideaontheweb.org/event/ccc-initial-meeting/
LOCATION:Virtual
CATEGORIES:CC Committee
ORGANIZER;CN="Matt Jacques":MAILTO:matt.jaques@houstontexans.com
END:VEVENT
BEGIN:VEVENT
DTSTART;TZID=America/Denver:20250925T110000
DTEND;TZID=America/Denver:20250925T120000
DTSTAMP:20260425T053243
CREATED:20251001T215528Z
LAST-MODIFIED:20251002T092318Z
UID:10379-1758798000-1758801600@ideaontheweb.org
SUMMARY:Advisory Committee Initial Meeting
DESCRIPTION:The Advisory Committee represents each of IDEA’s eight Active member breakouts (Alternative Productions\, Baseball\, Basketball\, Football\, Hockey\, Minor League\, Soccer\, Universities). Advisory Rep is an elected position.\nTo get involved in YOUR breakout\, contact your Advisory Rep: \n\nAlternative Productions: Tommy Bean\, Dickies Arena;\nBaseball: Arianna Krizek\, Philadelphia Phillies;\nBasketball: James Dawkins\, Miami Heat;\nFootball: Julia Chongarlides\, Atlanta Falcons;\nHockey: Ryan Bushey\, New Jersey Devils;\nMinor League: Nick Wojciechowski\, Milwaukee Admirals;\nSoccer: Tom Davis\, FC Cincinnati;\nUniversity: Les Eller\, Purdue University;
URL:https://ideaontheweb.org/event/advisory-committee-jami-patton/
LOCATION:Virtual
CATEGORIES:Advisory Committee
ORGANIZER;CN="Jami Patton":MAILTO:jami.patton@brewers.com
END:VEVENT
BEGIN:VEVENT
DTSTART;TZID=America/Denver:20250924T120000
DTEND;TZID=America/Denver:20250924T130000
DTSTAMP:20260425T053243
CREATED:20251002T203451Z
LAST-MODIFIED:20251002T203515Z
UID:10438-1758715200-1758718800@ideaontheweb.org
SUMMARY:IDEA Executive Board meets
DESCRIPTION:The Executive Board is elected by the membership in even-numbered years and serves a two-year term. The positions of President\, 1st Vice President\, 2nd Vice President\, and Secretary will be chosen in 2026. \nFor further information\, contact IDEA World Headquarters.
URL:https://ideaontheweb.org/event/idea-executive-board-meets-3/
LOCATION:Virtual
CATEGORIES:Executive Board
ORGANIZER;CN="Liz Burke Brown":MAILTO:liz@ideaontheweb.org
END:VEVENT
END:VCALENDAR